BEGIN:VCALENDAR
VERSION:2.0
PRODID:-//hacksw/handcal//NONSGML v1.0//EN
BEGIN:VEVENT
SUMMARY:Entrainement Equipe 1
UID:f00a9cd3-2ca0-4cec-884f-150a071f50e0
DTSTART:20260223T180000Z
DTEND:20260223T200000Z
LOCATION:Localisation   
CATEGORIES:Entrainement
STATUS:
DESCRIPTION:Entrainement tactique pour l'equipe 1 ce soir au stade
 Municipal. 
URL;VALUE=URI:https://olympique-de-la-ciotat.sportsregions.fr/evenements/2026/02/23/entrainement-equipe-1-2419733
END:VEVENT
END:VCALENDAR
